BEGIN:VCALENDAR
VERSION:2.0
PRODID:-//AudioTheme 1.5.1
BEGIN:VEVENT
UID:http://www.lucywise.com.au/?post_type=audiotheme_gig&#038;p=1664
URL:http://www.lucywise.com.au/gigs/witchcliffe-druids-hall/
DTSTART;TZID=GMT:20141017T113000
SUMMARY:Witchcliffe Druid's Hall
DESCRIPTION:Bussell Hwy\, Witchcliffe Western Australia 6286
LOCATION:Witchcliffe Druid's Hall\, Witchcliffe WA\, Bussell Hwy\, Witchcliffe\, Western Australia
END:VEVENT
END:VCALENDAR