BEGIN:VCALENDAR
VERSION:2.0
PRODID:-//AudioTheme 1.5.1
BEGIN:VEVENT
UID:http://www.lucywise.com.au/?post_type=audiotheme_gig&#038;p=2330
URL:http://www.lucywise.com.au/gigs/wise-women-louisa-lucy-rowena-and-ruth-wise/
DTSTART;TZID=GMT:20170514T040000
SUMMARY:Wise Women: Louisa, Lucy, Rowena and Ruth Wise
LOCATION:Northcote Uniting Church Hall
END:VEVENT
END:VCALENDAR