BEGIN:VCALENDAR
VERSION:2.0
PRODID:-//AudioTheme 1.5.1
BEGIN:VEVENT
UID:http://www.lucywise.com.au/?post_type=audiotheme_gig&#038;p=2012
URL:http://www.lucywise.com.au/gigs/wintersong-vi/
DTSTART;TZID=GMT:20150808T100000
SUMMARY:Wintersong VI
LOCATION:Aireys Pub\, Great Ocean Rd\, Aireys Inlet\, VIC\, Australia
END:VEVENT
END:VCALENDAR