BEGIN:VCALENDAR
VERSION:2.0
PRODID:-//AudioTheme 1.5.1
BEGIN:VEVENT
UID:http://www.lucywise.com.au/?post_type=audiotheme_gig&#038;p=2279
URL:http://www.lucywise.com.au/gigs/the-mountain-tour-sadie-girl-on-the-hill-lucy-wise/
DTSTART;TZID=GMT:20160902T093000
SUMMARY:The Mountain Tour: Girl on the Hill & Lucy Wise
LOCATION:Abitza Cafe Upwey\, 56-58 Main St\, Upwey\, VIC\, Australia\, 3158
END:VEVENT
END:VCALENDAR