BEGIN:VCALENDAR
VERSION:2.0
PRODID:-//AudioTheme 1.5.1
BEGIN:VEVENT
UID:http://www.lucywise.com.au/?post_type=audiotheme_gig&#038;p=2281
URL:http://www.lucywise.com.au/gigs/the-mountain-tour-girl-on-the-hill-lucy-wise/
DTSTART;TZID=GMT:20160930T100000
SUMMARY:The Mountain Tour: Girl on the Hill & Lucy Wise
LOCATION:Burrinja Arts Centre Skylark Room\, Cnr Glenfern Road and Matson Drive\, Upwey\, VIC\, Australia\, 3158
END:VEVENT
END:VCALENDAR