BEGIN:VCALENDAR
VERSION:2.0
PRODID:-//AudioTheme 1.5.1
BEGIN:VEVENT
UID:http://www.lucywise.com.au/?post_type=audiotheme_gig&#038;p=2283
URL:http://www.lucywise.com.au/gigs/the-mountain-tour-girl-on-the-hill-lucy-wise-2/
DTSTART;TZID=GMT:20161007T090000
SUMMARY:The Mountain Tour: Girl on the Hill & Lucy Wise
LOCATION:Selby Folk Club\, Selby Community House\, 1 Minak Road\, Selby\, VIC\, Australia\, 3159
END:VEVENT
END:VCALENDAR