BEGIN:VCALENDAR
VERSION:2.0
PRODID:-//AudioTheme 1.5.1
BEGIN:VEVENT
UID:http://www.lucywise.com.au/?post_type=audiotheme_gig&#038;p=1530
URL:http://www.lucywise.com.au/gigs/st-andrews-house-concert/
DTSTART;TZID=GMT:20140516T093000
SUMMARY:St Andrews House Concert 
DESCRIPTION:Lucy Wise & The B'Gollies: Lucy Wise\, Chris Stone & Holly Downes.
LOCATION:St Andrews\, \, VIC\, Australia
END:VEVENT
END:VCALENDAR