BEGIN:VCALENDAR
VERSION:2.0
PRODID:-//AudioTheme 1.5.1
BEGIN:VEVENT
UID:http://www.lucywise.com.au/?post_type=audiotheme_gig&#038;p=2052
URL:http://www.lucywise.com.au/gigs/parlour-show-with-justin-bernasconi/
DTSTART;TZID=GMT:20151206T050000
SUMMARY:Postponed: Parlour Show with Justin Bernasconi
LOCATION:Parlour\, Melbourne\, VIC\, Australia
END:VEVENT
END:VCALENDAR