BEGIN:VCALENDAR
VERSION:2.0
PRODID:-//AudioTheme 1.5.1
BEGIN:VEVENT
UID:http://www.lucywise.com.au/?post_type=audiotheme_gig&#038;p=1536
URL:http://www.lucywise.com.au/gigs/nanga-music-festival/
DTSTART;VALUE=DATE:20141010
SUMMARY:Nanga Music Festival
LOCATION:Nanga Bush Camp\, Nanga WA
END:VEVENT
END:VCALENDAR