BEGIN:VCALENDAR
VERSION:2.0
PRODID:-//AudioTheme 1.5.1
BEGIN:VEVENT
UID:http://www.lucywise.com.au/?post_type=audiotheme_gig&#038;p=2876
URL:http://www.lucywise.com.au/gigs/lucy-wise-with-ari-mia/
DTSTART;TZID=GMT:20200217T000000
SUMMARY:Lucy Wise with Ari & Mia
LOCATION:The Parlor Room\, Northampton\, MA\, USA
END:VEVENT
END:VCALENDAR