BEGIN:VCALENDAR
VERSION:2.0
PRODID:-//AudioTheme 1.5.1
BEGIN:VEVENT
UID:http://www.lucywise.com.au/?post_type=audiotheme_gig&#038;p=2877
URL:http://www.lucywise.com.au/gigs/lucy-wise-with-ari-mia-2/
DTSTART;TZID=GMT:20200220T000000
SUMMARY:Lucy Wise with Ari & Mia
LOCATION:Rebop Farm\, Brattleboro\, VT\, USA
END:VEVENT
END:VCALENDAR