BEGIN:VCALENDAR
VERSION:2.0
PRODID:-//AudioTheme 1.5.1
BEGIN:VEVENT
UID:http://www.lucywise.com.au/?post_type=audiotheme_gig&#038;p=1707
URL:http://www.lucywise.com.au/gigs/lucy-wise-trio/
DTSTART;TZID=GMT:20141018T113000
SUMMARY:Lucy Wise Trio
LOCATION:Wanneroo House Concert\, Wanneroo WA
END:VEVENT
END:VCALENDAR