BEGIN:VCALENDAR
VERSION:2.0
PRODID:-//AudioTheme 1.5.1
BEGIN:VEVENT
UID:http://www.lucywise.com.au/?post_type=audiotheme_gig&#038;p=1690
URL:http://www.lucywise.com.au/gigs/lucy-wise-trio-with-ari-and-mia-usa-5/
DTSTART;TZID=GMT:20140920T090000
SUMMARY:Lucy Wise Trio with Ari and Mia (USA)
LOCATION:The Old Gazette Theatre\, Dorrigo NSW
END:VEVENT
END:VCALENDAR