BEGIN:VCALENDAR
VERSION:2.0
PRODID:-//AudioTheme 1.5.1
BEGIN:VEVENT
UID:http://www.lucywise.com.au/?post_type=audiotheme_gig&#038;p=2062
URL:http://www.lucywise.com.au/gigs/lucy-wise-trio-supporting-chaika-with-orchestra/
DTSTART;TZID=GMT:20151211T083000
SUMMARY:Lucy Wise Trio supporting Chaika with orchestra
LOCATION:The Basement\, 7 Macquarie Place\, Sydney\, NSW\, Australia
END:VEVENT
END:VCALENDAR