BEGIN:VCALENDAR
VERSION:2.0
PRODID:-//AudioTheme 1.5.1
BEGIN:VEVENT
UID:http://www.lucywise.com.au/?post_type=audiotheme_gig&#038;p=1661
URL:http://www.lucywise.com.au/gigs/lucy-wise-trio-at-ellington-jazz-club-with-holly-norman/
DTSTART;TZID=GMT:20141015T080000
SUMMARY:Lucy Wise Trio at Ellington Jazz Club with Holly Norman
LOCATION:Ellington Jazz Club\, Perth\, WA
END:VEVENT
END:VCALENDAR