BEGIN:VCALENDAR
VERSION:2.0
PRODID:-//AudioTheme 1.5.1
BEGIN:VEVENT
UID:http://www.lucywise.com.au/?post_type=audiotheme_gig&#038;p=1718
URL:http://www.lucywise.com.au/gigs/lucy-wise-trio-2/
DTSTART;VALUE=DATE:20141227
SUMMARY:Lucy Wise Trio
LOCATION:Woodford Folk Festival\, Woodford\, Queensland\, Australia
END:VEVENT
END:VCALENDAR