BEGIN:VCALENDAR
VERSION:2.0
PRODID:-//AudioTheme 1.5.1
BEGIN:VEVENT
UID:http://www.lucywise.com.au/?post_type=audiotheme_gig&#038;p=1659
URL:http://www.lucywise.com.au/gigs/lucy-wise-supporting-rowena-wise/
DTSTART;TZID=GMT:20140805T100000
SUMMARY:Lucy Wise Supporting Rowena Wise
LOCATION:The Yarra Hotel\, Abbotsford
END:VEVENT
END:VCALENDAR