BEGIN:VCALENDAR
VERSION:2.0
PRODID:-//AudioTheme 1.5.1
BEGIN:VEVENT
UID:http://www.lucywise.com.au/?post_type=audiotheme_gig&#038;p=2374
URL:http://www.lucywise.com.au/gigs/lucy-wise-supporting-monique-clare/
DTSTART;TZID=GMT:20170928T090000
SUMMARY:Lucy Wise supporting Monique Clare
LOCATION:Fireside sessions\, Address provided on booking\, Warrandyte\, VIC\, 3113
END:VEVENT
END:VCALENDAR