BEGIN:VCALENDAR
VERSION:2.0
PRODID:-//AudioTheme 1.5.1
BEGIN:VEVENT
UID:http://www.lucywise.com.au/?post_type=audiotheme_gig&#038;p=2864
URL:http://www.lucywise.com.au/gigs/lucy-wise-stephen-taberner-10/
DTSTART;TZID=GMT:20200124T080000
SUMMARY:Lucy Wise & Stephen Taberner
LOCATION:Newstead Live!\, Newstead\, VIC\, Australia
END:VEVENT
END:VCALENDAR