BEGIN:VCALENDAR
VERSION:2.0
PRODID:-//AudioTheme 1.5.1
BEGIN:VEVENT
UID:http://www.lucywise.com.au/?post_type=audiotheme_gig&#038;p=2268
URL:http://www.lucywise.com.au/gigs/lucy-wise-solo-london-show/
DTSTART;TZID=GMT:20160716T180000
SUMMARY:Lucy Wise solo London Show!
LOCATION:The Spice of Life\, 6 Moor Street\, Soho\, London\, United Kingdom
END:VEVENT
END:VCALENDAR