BEGIN:VCALENDAR
VERSION:2.0
PRODID:-//AudioTheme 1.5.1
BEGIN:VEVENT
UID:http://www.lucywise.com.au/?post_type=audiotheme_gig&#038;p=2681
URL:http://www.lucywise.com.au/gigs/lucy-wise-solo-3/
DTSTART;TZID=GMT:20190315T090000
SUMMARY:Lucy Wise - Solo
LOCATION:The River Folk Festival\, Warburton\, VIC\, Australia\, 3799
END:VEVENT
END:VCALENDAR