BEGIN:VCALENDAR
VERSION:2.0
PRODID:-//AudioTheme 1.5.1
BEGIN:VEVENT
UID:http://www.lucywise.com.au/?post_type=audiotheme_gig&#038;p=2670
URL:http://www.lucywise.com.au/gigs/lucy-wise-solo-2/
DTSTART;TZID=GMT:20181227T100000
SUMMARY:Lucy Wise (solo)
LOCATION:Woodford Folk Festival\, Woodford\, Queensland\, Australia
END:VEVENT
END:VCALENDAR