BEGIN:VCALENDAR
VERSION:2.0
PRODID:-//AudioTheme 1.5.1
BEGIN:VEVENT
UID:http://www.lucywise.com.au/?post_type=audiotheme_gig&#038;p=2015
URL:http://www.lucywise.com.au/gigs/lucy-wise-nigel-wearne/
DTSTART;TZID=GMT:20150831T090000
SUMMARY:Lucy Wise & Nigel Wearne
LOCATION:The Retreat Hotel\, 280 Sydney Rd\, Brunswick\, VIC\, Australia
END:VEVENT
END:VCALENDAR