BEGIN:VCALENDAR
VERSION:2.0
PRODID:-//AudioTheme 1.5.1
BEGIN:VEVENT
UID:http://www.lucywise.com.au/?post_type=audiotheme_gig&#038;p=2254
URL:http://www.lucywise.com.au/gigs/lucy-wise-kirsty-bromley-two-hemispheres-tour-11/
DTSTART;TZID=GMT:20160710T190000
SUMMARY:LUCY WISE & KIRSTY BROMLEY: TWO HEMISPHERES TOUR
LOCATION:Halsway Manor\, Taunton\, Somerset\, United Kingdom
END:VEVENT
END:VCALENDAR