BEGIN:VCALENDAR
VERSION:2.0
PRODID:-//AudioTheme 1.5.1
BEGIN:VEVENT
UID:http://www.lucywise.com.au/?post_type=audiotheme_gig&#038;p=2361
URL:http://www.lucywise.com.au/gigs/lucy-wise-at-the-boite-eltham/
DTSTART;TZID=GMT:20170728T100000
SUMMARY:Lucy Wise at The Boite Eltham
LOCATION:The Boite Eltham\, St Margaret's Church Hall\, Eltham\, VIC
END:VEVENT
END:VCALENDAR