BEGIN:VCALENDAR
VERSION:2.0
PRODID:-//AudioTheme 1.5.1
BEGIN:VEVENT
UID:http://www.lucywise.com.au/?post_type=audiotheme_gig&#038;p=2337
URL:http://www.lucywise.com.au/gigs/lucy-wise-at-joes-garden/
DTSTART;TZID=GMT:20170604T040000
SUMMARY:Lucy Wise at Joe's Garden
LOCATION:Joe's Garden\, 34 Edna Grove\, Coburg\, VIC\, Australia\, 3058
END:VEVENT
END:VCALENDAR