BEGIN:VCALENDAR
VERSION:2.0
PRODID:-//AudioTheme 1.5.1
BEGIN:VEVENT
UID:http://www.lucywise.com.au/?post_type=audiotheme_gig&#038;p=2865
URL:http://www.lucywise.com.au/gigs/lucy-wise-ari-mia-2/
DTSTART;TZID=GMT:20200221T010000
SUMMARY:Lucy Wise, Ari & Mia
LOCATION:Club Passim\, 47 Palmer Street\, Cambridge\, MA\, United States\, 02138
END:VEVENT
END:VCALENDAR