BEGIN:VCALENDAR
VERSION:2.0
PRODID:-//AudioTheme 1.5.1
BEGIN:VEVENT
UID:http://www.lucywise.com.au/?post_type=audiotheme_gig&#038;p=2285
URL:http://www.lucywise.com.au/gigs/lucy-wise-6/
DTSTART;TZID=GMT:20160910T003000
SUMMARY:Lucy Wise
LOCATION:Ceres Market\, Cnr Roberts and Stewart Streets\, Brunswick East\, VIC\, Australia
END:VEVENT
END:VCALENDAR