BEGIN:VCALENDAR
VERSION:2.0
PRODID:-//AudioTheme 1.5.1
BEGIN:VEVENT
UID:http://www.lucywise.com.au/?post_type=audiotheme_gig&#038;p=2673
URL:http://www.lucywise.com.au/gigs/lucy-wise-12/
DTSTART;TZID=GMT:20190418T100000
SUMMARY:Lucy Wise
LOCATION:The National Folk Festival\, Canberra\, ACT\, Australia
END:VEVENT
END:VCALENDAR