BEGIN:VCALENDAR
VERSION:2.0
PRODID:-//AudioTheme 1.5.1
BEGIN:VEVENT
UID:http://www.lucywise.com.au/?post_type=audiotheme_gig&#038;p=2333
URL:http://www.lucywise.com.au/gigs/lucy-wise-10/
DTSTART;TZID=GMT:20170520T090000
SUMMARY:Lucy Wise
LOCATION:Dandenong Ranges Ukulele Festival\, Emerald Primary School\, 4-10 Heroes Ave\, Emerald\, VIC\, Australia\, 3782
END:VEVENT
END:VCALENDAR