BEGIN:VCALENDAR
VERSION:2.0
PRODID:-//AudioTheme 1.5.1
BEGIN:VEVENT
UID:http://www.lucywise.com.au/?post_type=audiotheme_gig&#038;p=2343
URL:http://www.lucywise.com.au/gigs/lucy-rowena-wise-john-flanagan-2/
DTSTART;TZID=GMT:20170624T080000
SUMMARY:Lucy & Rowena Wise + John Flanagan
LOCATION:House Concert in Eltham\, Address provided after you book\, Eltham\, VIC\, Australia
END:VEVENT
END:VCALENDAR