BEGIN:VCALENDAR
VERSION:2.0
PRODID:-//AudioTheme 1.5.1
BEGIN:VEVENT
UID:http://www.lucywise.com.au/?post_type=audiotheme_gig&#038;p=2294
URL:http://www.lucywise.com.au/gigs/lucy-rowena-louisa-wise/
DTSTART;TZID=GMT:20161119T233000
SUMMARY:Lucy, Rowena & Louisa Wise
LOCATION:Ceres Market\, Cnr Roberts and Stewart Streets\, Brunswick East\, VIC\, Australia
END:VEVENT
END:VCALENDAR