BEGIN:VCALENDAR
VERSION:2.0
PRODID:-//AudioTheme 1.5.1
BEGIN:VEVENT
UID:http://www.lucywise.com.au/?post_type=audiotheme_gig&#038;p=1619
URL:http://www.lucywise.com.au/gigs/louisa-lucy-and-rowena-wise/
DTSTART;TZID=GMT:20140619T100000
SUMMARY:Louisa, Lucy and Rowena Wise
DESCRIPTION: Supporting Mae Trio with Open Swimmer
LOCATION:The Spotted Mallard\, 314 Sydney Rd\, Brunswick\, VIC\, Australia
END:VEVENT
END:VCALENDAR