BEGIN:VCALENDAR
VERSION:2.0
PRODID:-//AudioTheme 1.5.1
BEGIN:VEVENT
UID:http://www.lucywise.com.au/?post_type=audiotheme_gig&#038;p=2347
URL:http://www.lucywise.com.au/gigs/house-concert-for-the-tarkine/
DTSTART;TZID=GMT:20170625T040000
SUMMARY:House Concert for the Tarkine
LOCATION:House concert in Panton Hill\, 123 Bakehouse Rd\, Panton Hill\, VIC\, Australia
END:VEVENT
END:VCALENDAR