BEGIN:VCALENDAR
VERSION:2.0
PRODID:-//AudioTheme 1.5.1
BEGIN:VEVENT
UID:http://www.lucywise.com.au/?post_type=audiotheme_gig&#038;p=2852
URL:http://www.lucywise.com.au/gigs/gracejean-album-launch/
DTSTART;TZID=GMT:20191005T093000
SUMMARY:GraceJean Album Launch
LOCATION:Thornbury Theatre\, 859 High St\, Thornbury\, VIC\, Australia\, 3071
END:VEVENT
END:VCALENDAR