BEGIN:VCALENDAR
VERSION:2.0
PRODID:-//AudioTheme 1.5.1
BEGIN:VEVENT
UID:http://www.lucywise.com.au/?post_type=audiotheme_gig&#038;p=1532
URL:http://www.lucywise.com.au/gigs/eurobadalla-river-of-art-festival/
DTSTART;TZID=GMT:20140517T090000
SUMMARY:Eurobadalla River of Art Festival
DESCRIPTION:With Lucy Wise & The B'Gollies: Lucy Wise\, Chris Stone and Holly Downes
LOCATION:Moruya Golf Club\, Moruya\, NSW
END:VEVENT
END:VCALENDAR