BEGIN:VCALENDAR
VERSION:2.0
PRODID:-//AudioTheme 1.5.1
BEGIN:VEVENT
UID:http://www.lucywise.com.au/?post_type=audiotheme_gig&#038;p=1534
URL:http://www.lucywise.com.au/gigs/emerald-ukulele-festival/
DTSTART;TZID=GMT:20140531T110000
SUMMARY:Emerald Ukulele Festival
LOCATION:Gemco Players Community Theatre\, Emerald VIC
END:VEVENT
END:VCALENDAR