BEGIN:VCALENDAR
VERSION:2.0
PRODID:-//AudioTheme 1.5.1
BEGIN:VEVENT
UID:http://www.lucywise.com.au/?post_type=audiotheme_gig&#038;p=1657
URL:http://www.lucywise.com.au/gigs/dorrigo-folk-and-bluegrass-festival/
DTSTART;TZID=GMT:20141024T093000
SUMMARY:Dorrigo Folk and Bluegrass Festival
LOCATION:Dorrigo Folk and Bluegrass Festival
END:VEVENT
END:VCALENDAR