BEGIN:VCALENDAR
VERSION:2.0
PRODID:-//AudioTheme 1.5.1
BEGIN:VEVENT
UID:http://www.lucywise.com.au/?post_type=audiotheme_gig&#038;p=1672
URL:http://www.lucywise.com.au/gigs/dorothea-mackellar-poetry-awards-40th-anniversary/
DTSTART;TZID=GMT:20140829T090000
SUMMARY:Dorothea Mackellar Poetry Awards 40th Anniversary
LOCATION:Gunnedah\, NSW
END:VEVENT
END:VCALENDAR