BEGIN:VCALENDAR
VERSION:2.0
PRODID:-//AudioTheme 1.5.1
BEGIN:VEVENT
UID:http://www.lucywise.com.au/?post_type=audiotheme_gig&#038;p=2020
URL:http://www.lucywise.com.au/gigs/a-painting-of-the-universe-ep-launch/
DTSTART;TZID=GMT:20151129T083000
SUMMARY:A Painting of the Universe EP Launch
LOCATION:Django @ Camelot\, 19 Marrickville Rd\, Marrickville\, NSW\, Australia\, 2204
END:VEVENT
END:VCALENDAR