BEGIN:VCALENDAR
VERSION:2.0
PRODID:-//AudioTheme 1.5.1
BEGIN:VEVENT
UID:http://www.lucywise.com.au/?post_type=audiotheme_gig&#038;p=2049
URL:http://www.lucywise.com.au/gigs/a-painting-of-the-universe-ep-launch-3/
DTSTART;TZID=GMT:20151128T083000
SUMMARY:A Painting of the Universe EP Launch
LOCATION:Araluen Gold Concert Series\, Araluen\, NSW\, Australia\, 2622
END:VEVENT
END:VCALENDAR