BEGIN:VCALENDAR
VERSION:2.0
PRODID:-//AudioTheme 1.5.1
BEGIN:VEVENT
UID:http://www.lucywise.com.au/?post_type=audiotheme_gig&#038;p=2033
URL:http://www.lucywise.com.au/gigs/a-painting-of-the-universe-ep-launch-2/
DTSTART;TZID=GMT:20151125T080000
SUMMARY:A Painting of the Universe EP Launch
LOCATION:Smiths Alternative\, 76 Alinga St\, Canberra\, ACT\, 2601
END:VEVENT
END:VCALENDAR