BEGIN:VCALENDAR
VERSION:2.0
PRODID:-//AudioTheme 1.5.1
BEGIN:VEVENT
UID:http://www.lucywise.com.au/?post_type=audiotheme_gig&#038;p=2029
URL:http://www.lucywise.com.au/gigs/2015-11-27/
DTSTART;TZID=GMT:20151127T083000
SUMMARY:Yatteyattah House Concert
LOCATION:House Concert\, Yatteyattah\, NSW
END:VEVENT
END:VCALENDAR