BEGIN:VCALENDAR
VERSION:2.0
PRODID:-//AudioTheme 1.5.1
BEGIN:VEVENT
UID:http://www.lucywise.com.au/?post_type=audiotheme_gig&#038;p=2026
URL:http://www.lucywise.com.au/gigs/2015-11-26/
DTSTART;TZID=GMT:20151126T083000
SUMMARY:A Painting of the Universe EP Launch
LOCATION:Bundanoon Church\, 15 Church St\, Bundanoon\, NSW\, Australia\, 2578
END:VEVENT
END:VCALENDAR